Workbook

Sheet TWL
A1: TWL - 2011 MPB Update
A2: Area (ha) of MPB Attack Severity by Age Class and Density within Pine Stands (Pine Species >= 30% density - The Pine Mask)
A3: TSA Area | B3: 4933663.3
A4: Pine Mask Unharvested Area | B4: =SUM(data!D2:D200) -> 2090852.4
A6: MPB Attack as a percentage of Pine affected within the VRI Stand
A8: MPB Attack Severity
C9: Light (<11%) | E9: Moderate (11-30%) | G9: Severe (31-50%) | I9: Very Severe (>50%) | K9: All Severity | M9: No Attack
A10: Age Class | B10: Pine Density | C10: Area (ha) | D10: Percent of all Pine (Pine Mask) | E10: Area (ha) | F10: Percent of all Pine (Pine Mask) | G10: Area (ha) | H10: Percent of all Pine (Pine Mask) | I10: Area (ha) | J10: Percent of all Pine (Pine Mask) | K10: Total Area of Attack (ha) | L10: Percent of all Pine (Pine Mask) | M10: Area (ha) | N10: Percent of all Pine (Pine Mask)
A11: 21-40 years | B11: 30-70% | C11: {=SUM(IF(data!A2:A200="21-40 years",IF(data!B2:B200="30-70%",IF(data!C2:C200="Light (<11%)",data!D2:D200,0),0),0))} -> 7216.2601 | D11: =C11/($K$20+$M$20) -> 0.0036397427 | E11: {=SUM(IF(data!A2:A200="21-40 years",IF(data!B2:B200="30-70%",IF(data!C2:C200="Moderate (11-30%)",data!D2:D200,0),0),0))} -> 3586.5861 | F11: =E11/($K$20+$M$20) -> 0.001809005 | G11: {=SUM(IF(data!A2:A200="21-40 years",IF(data!B2:B200="30-70%",IF(data!C2:C200="Severe (31-50%)",data!D2:D200,0),0),0))} -> 1713.2926 | H11: =G11/($K$20+$M$20) -> 0.00086415184 | I11: {=SUM(IF(data!A2:A200="21-40 years",IF(data!B2:B200="30-70%",IF(data!C2:C200="Very Severe (>50%)",data!D2:D200,0),0),0))} -> 14565.477 | J11: =I11/($K$20+$M$20) -> 0.0073465464 | K11: =SUM(C11,E11,G11,I11) -> 27081.616 | L11: =K11/($K$20+$M$20) -> 0.013659446 | M11: {=SUM(IF(data!A2:A200="21-40 years",IF(data!B2:B200="30-70%",IF(data!C2:C200="No Attack",data!D2:D200,0),0),0))} -> 8005.1291 | N11: =M11/($K$20+$M$20) -> 0.0040376331
B12: >70% | C12: {=SUM(IF(data!A2:A200="21-40 years",IF(data!B2:B200=">70%",IF(data!C2:C200="Light (<11%)",data!D2:D200,0),0),0))} -> 13053.723 | D12: =C12/($K$20+$M$20) -> 0.0065840466 | E12: {=SUM(IF(data!A2:A200="21-40 years",IF(data!B2:B200=">70%",IF(data!C2:C200="Moderate (11-30%)",data!D2:D200,0),0),0))} -> 5971.7221 | F12: =E12/($K$20+$M$20) -> 0.0030120217 | G12: {=SUM(IF(data!A2:A200="21-40 years",IF(data!B2:B200=">70%",IF(data!C2:C200="Severe (31-50%)",data!D2:D200,0),0),0))} -> 2815.9934 | H12: =G12/($K$20+$M$20) -> 0.0014203329 | I12: {=SUM(IF(data!A2:A200="21-40 years",IF(data!B2:B200=">70%",IF(data!C2:C200="Very Severe (>50%)",data!D2:D200,0),0),0))} -> 44348.48 | J12: =I12/($K$20+$M$20) -> 0.02236852 | K12: =SUM(C12,E12,G12,I12) -> 66189.918 | L12: =K12/($K$20+$M$20) -> 0.033384921 | M12: {=SUM(IF(data!A2:A200="21-40 years",IF(data!B2:B200=">70%",IF(data!C2:C200="No Attack",data!D2:D200,0),0),0))} -> 21342.001 | N12: =M12/($K$20+$M$20) -> 0.010764495
A14: 41-60 years | B14: 30-70% | C14: {=SUM(IF(data!A2:A200="41-60 years",IF(data!B2:B200="30-70%",IF(data!C2:C200="Light (<11%)",data!D2:D200,0),0),0))} -> 1349.3557 | D14: =C14/($K$20+$M$20) -> 0.00068058903 | E14: {=SUM(IF(data!A2:A200="41-60 years",IF(data!B2:B200="30-70%",IF(data!C2:C200="Moderate (11-30%)",data!D2:D200,0),0),0))} -> 1229.8289 | F14: =E14/($K$20+$M$20) -> 0.00062030201 | G14: {=SUM(IF(data!A2:A200="41-60 years",IF(data!B2:B200="30-70%",IF(data!C2:C200="Severe (31-50%)",data!D2:D200,0),0),0))} -> 855.67068 | H14: =G14/($K$20+$M$20) -> 0.00043158382 | I14: {=SUM(IF(data!A2:A200="41-60 years",IF(data!B2:B200="30-70%",IF(data!C2:C200="Very Severe (>50%)",data!D2:D200,0),0),0))} -> 12467.046 | J14: =I14/($K$20+$M$20) -> 0.0062881379 | K14: =SUM(C14,E14,G14,I14) -> 15901.901 | L14: =K14/($K$20+$M$20) -> 0.0080206128 | M14: {=SUM(IF(data!A2:A200="41-60 years",IF(data!B2:B200="30-70%",IF(data!C2:C200="No Attack",data!D2:D200,0),0),0))} -> 3754.5894 | N14: =M14/($K$20+$M$20) -> 0.0018937427
B15: >70% | C15: {=SUM(IF(data!A2:A200="41-60 years",IF(data!B2:B200=">70%",IF(data!C2:C200="Light (<11%)",data!D2:D200,0),0),0))} -> 1427.7245 | D15: =C15/($K$20+$M$20) -> 0.00072011678 | E15: {=SUM(IF(data!A2:A200="41-60 years",IF(data!B2:B200=">70%",IF(data!C2:C200="Moderate (11-30%)",data!D2:D200,0),0),0))} -> 915.5966 | F15: =E15/($K$20+$M$20) -> 0.0004618093 | G15: {=SUM(IF(data!A2:A200="41-60 years",IF(data!B2:B200=">70%",IF(data!C2:C200="Severe (31-50%)",data!D2:D200,0),0),0))} -> 940.08825 | H15: =G15/($K$20+$M$20) -> 0.00047416242 | I15: {=SUM(IF(data!A2:A200="41-60 years",IF(data!B2:B200=">70%",IF(data!C2:C200="Very Severe (>50%)",data!D2:D200,0),0),0))} -> 75325.253 | J15: =I15/($K$20+$M$20) -> 0.037992608 | K15: =SUM(C15,E15,G15,I15) -> 78608.662 | L15: =K15/($K$20+$M$20) -> 0.039648696 | M15: {=SUM(IF(data!A2:A200="41-60 years",IF(data!B2:B200=">70%",IF(data!C2:C200="No Attack",data!D2:D200,0),0),0))} -> 2815.6403 | N15: =M15/($K$20+$M$20) -> 0.0014201548
A17: >60 years | B17: 30-70% | C17: {=SUM(IF(data!A2:A200=">60 years",IF(data!B2:B200="30-70%",IF(data!C2:C200="Light (<11%)",data!D2:D200,0),0),0))} -> 9863.3022 | D17: =C17/($K$20+$M$20) -> 0.0049748598 | E17: {=SUM(IF(data!A2:A200=">60 years",IF(data!B2:B200="30-70%",IF(data!C2:C200="Moderate (11-30%)",data!D2:D200,0),0),0))} -> 8134.4195 | F17: =E17/($K$20+$M$20) -> 0.0041028447 | G17: {=SUM(IF(data!A2:A200=">60 years",IF(data!B2:B200="30-70%",IF(data!C2:C200="Severe (31-50%)",data!D2:D200,0),0),0))} -> 9107.3652 | H17: =G17/($K$20+$M$20) -> 0.0045935798 | I17: {=SUM(IF(data!A2:A200=">60 years",IF(data!B2:B200="30-70%",IF(data!C2:C200="Very Severe (>50%)",data!D2:D200,0),0),0))} -> 195195.96 | J17: =I17/($K$20+$M$20) -> 0.098453084 | K17: =SUM(C17,E17,G17,I17) -> 222301.04 | L17: =K17/($K$20+$M$20) -> 0.11212437 | M17: {=SUM(IF(data!A2:A200=">60 years",IF(data!B2:B200="30-70%",IF(data!C2:C200="No Attack",data!D2:D200,0),0),0))} -> 33488.502 | N17: =M17/($K$20+$M$20) -> 0.016890956
B18: >70% | C18: {=SUM(IF(data!A2:A200=">60 years",IF(data!B2:B200=">70%",IF(data!C2:C200="Light (<11%)",data!D2:D200,0),0),0))} -> 9175.1708 | D18: =C18/($K$20+$M$20) -> 0.0046277796 | E18: {=SUM(IF(data!A2:A200=">60 years",IF(data!B2:B200=">70%",IF(data!C2:C200="Moderate (11-30%)",data!D2:D200,0),0),0))} -> 13114.237 | F18: =E18/($K$20+$M$20) -> 0.006614569 | G18: {=SUM(IF(data!A2:A200=">60 years",IF(data!B2:B200=">70%",IF(data!C2:C200="Severe (31-50%)",data!D2:D200,0),0),0))} -> 23369.592 | H18: =G18/($K$20+$M$20) -> 0.011787173 | I18: {=SUM(IF(data!A2:A200=">60 years",IF(data!B2:B200=">70%",IF(data!C2:C200="Very Severe (>50%)",data!D2:D200,0),0),0))} -> 1417956.4 | J18: =I18/($K$20+$M$20) -> 0.71518992 | K18: =SUM(C18,E18,G18,I18) -> 1463615.4 | L18: =K18/($K$20+$M$20) -> 0.73821945 | M18: {=SUM(IF(data!A2:A200=">60 years",IF(data!B2:B200=">70%",IF(data!C2:C200="No Attack",data!D2:D200,0),0),0))} -> 39524.761 | N18: =M18/($K$20+$M$20) -> 0.019935529
A20: Total | C20: =SUM(C11:C18) -> 42085.536 | D20: =C20/($K$20+$M$20) -> 0.021227134 | E20: =SUM(E11:E18) -> 32952.391 | F20: =E20/($K$20+$M$20) -> 0.016620552 | G20: =SUM(G11:G18) -> 38802.002 | H20: =G20/($K$20+$M$20) -> 0.019570983 | I20: =SUM(I11:I18) -> 1759858.6 | J20: =I20/($K$20+$M$20) -> 0.88763882 | K20: =SUM(K11:K18) -> 1873698.6 | L20: =SUM(L11:L18) -> 0.94505749 | M20: =SUM(M11:M18) -> 108930.62 | N20: =SUM(N11:N18) -> 0.05494251

Sheet data
A1: Age Class | B1: Pine Density | C1: MPB Attack Severity | D1: Sum Of area_ha
A2: <21 years | B2: >70% | C2: Light (<11%) | D2: 8394.615
A3: <21 years | B3: >70% | C3: Light (<11%) | D3: 13355.835
A4: <21 years | B4: >70% | C4: Light (<11%) | D4: 0.048132888
A5: <21 years | B5: >70% | C5: Moderate (11-30%) | D5: 1575.4283
A6: <21 years | B6: >70% | C6: Moderate (11-30%) | D6: 5904.6068
A7: <21 years | B7: >70% | C7: No Attack | D7: 7275.1448
A8: <21 years | B8: >70% | C8: No Attack | D8: 6977.2563
A9: <21 years | B9: >70% | C9: No Attack | D9: 8300.2822
A10: <21 years | B10: >70% | C10: No Attack | D10: 4.8594073e-05
A11: <21 years | B11: >70% | C11: Severe (31-50%) | D11: 244.94351
A12: <21 years | B12: >70% | C12: Severe (31-50%) | D12: 1354.3846
A13: <21 years | B13: >70% | C13: Very Severe (>50%) | D13: 2962.696
... A112: 41-60 years | B112: 30-70% | C112: Very Severe (>50%) | D112: 78.928119

Sheet Sheet3
